BEGIN:VCALENDAR
VERSION:2.0
PRODID:GlueUp
CALSCALE:GREGORIAN
BEGIN:VTIMEZONE
TZID:UTC
BEGIN:STANDARD
DTSTART:19700101T000000
TZOFFSETFROM:+0000
TZOFFSETTO:+0000
TZNAME:UTC
END:STANDARD
END:VTIMEZONE
BEGIN:VEVENT
TZ:+00
ORGANIZER;CN=Sara Liu:MAILTO:sara@galleon.cc
UID:27874-1776965878@https://galleon.glueup.cn
DTSTAMP:20260423T173758Z
DTSTART:20201118T010000Z
DTEND:20201119T100000Z
SUMMARY:6th Annual Aeronautical Materials and Manufacturing Technology Shanghai International Forum
DESCRIPTION:6th Annual Aeronautical Materials and Manufacturing Technology Shanghai International Forum by Galleon\n\nNov 18 & 19, 2020(GMT+8)\n\nFor more information, click here: https://galleon.glueup.cn/my/events/27874
LOCATION:Shanghai - Shanghai - China
BEGIN:VALARM
TRIGGER:-PT48H
REPEAT:4
DURATION:PT30M
ACTION:DISPLAY
END:VALARM
END:VEVENT
END:VCALENDAR