BEGIN:VCALENDAR
VERSION:2.0
PRODID:GlueUp
CALSCALE:GREGORIAN
BEGIN:VTIMEZONE
TZID:UTC
BEGIN:STANDARD
DTSTART:19700101T000000
TZOFFSETFROM:+0000
TZOFFSETTO:+0000
TZNAME:UTC
END:STANDARD
END:VTIMEZONE
BEGIN:VEVENT
TZ:+00
ORGANIZER;CN=Sara Liu:MAILTO:sara@galleon.cc
UID:39126-1776774077@https://galleon.glueup.cn
DTSTAMP:20260421T122117Z
DTSTART:20230420T010000Z
DTEND:20230421T090000Z
SUMMARY:7th Annual Commercial Aero Engine Shanghai International Forum
DESCRIPTION:7th Annual Commercial Aero Engine Shanghai International Forum by Galleon\n\nApr 20 & 21, 2023(GMT+8)\n\nFor more information, click here: https://galleon.glueup.cn/my/events/39126
LOCATION:Taicang - Suzhou - Jiangsu - China
BEGIN:VALARM
TRIGGER:-PT48H
REPEAT:4
DURATION:PT30M
ACTION:DISPLAY
END:VALARM
END:VEVENT
END:VCALENDAR